BEGIN:VCALENDAR
VERSION:2.0
PRODID:-//Média Art Essentiel - ECPv6.15.20//NONSGML v1.0//EN
CALSCALE:GREGORIAN
METHOD:PUBLISH
X-ORIGINAL-URL:https://essentiel.media
X-WR-CALDESC:Évènements pour Média Art Essentiel
REFRESH-INTERVAL;VALUE=DURATION:PT1H
X-Robots-Tag:noindex
X-PUBLISHED-TTL:PT1H
BEGIN:VTIMEZONE
TZID:UTC
BEGIN:STANDARD
TZOFFSETFROM:+0000
TZOFFSETTO:+0000
TZNAME:UTC
DTSTART:20240101T000000
END:STANDARD
END:VTIMEZONE
BEGIN:VEVENT
DTSTART;TZID=UTC:20251014T100000
DTEND;TZID=UTC:20260517T190000
DTSTAMP:20260420T033159
CREATED:20260417T073716Z
LAST-MODIFIED:20260417T073823Z
UID:13583-1760436000-1779044400@essentiel.media
SUMMARY:Flops ?! – L’échec comme moteur de l’innovation
DESCRIPTION:Jusqu’au 17 mai 2026\, le Musée des Arts et Métiers propose une exposition singulière consacrée aux échecs de l’innovation. Entre objets ratés\, expérimentations et réflexions sur le processus créatif\, Flops ?! invite à repenser notre rapport à la réussite. À noter : des nocturnes exceptionnelles de 18h à 22h du 5 au 16 mai.
URL:https://essentiel.media/event/flops-lechec-comme-moteur-de-linnovation/
LOCATION:Musée des Arts et Métiers\, 60 Rue Réaumur\, Paris\, 75003
END:VEVENT
END:VCALENDAR