BEGIN:VCALENDAR
VERSION:2.0
PRODID:-//Média Art Essentiel - ECPv6.15.20//NONSGML v1.0//EN
CALSCALE:GREGORIAN
METHOD:PUBLISH
X-WR-CALNAME:Média Art Essentiel
X-ORIGINAL-URL:https://essentiel.media
X-WR-CALDESC:Évènements pour Média Art Essentiel
REFRESH-INTERVAL;VALUE=DURATION:PT1H
X-Robots-Tag:noindex
X-PUBLISHED-TTL:PT1H
BEGIN:VTIMEZONE
TZID:UTC
BEGIN:STANDARD
TZOFFSETFROM:+0000
TZOFFSETTO:+0000
TZNAME:UTC
DTSTART:20250101T000000
END:STANDARD
END:VTIMEZONE
BEGIN:VEVENT
DTSTART;TZID=UTC:20260401T080000
DTEND;TZID=UTC:20261231T170000
DTSTAMP:20260420T044235
CREATED:20260411T052510Z
LAST-MODIFIED:20260411T074339Z
UID:10890-1775030400-1798736400@essentiel.media
SUMMARY:Dominique Cahier à Valence
DESCRIPTION:À Valence\, Dominique Cahier propose une peinture de la retenue et de la présence. Loin du spectaculaire\, ses œuvres explorent un équilibre subtil entre matière\, lumière et silence. \nChaque toile s’impose par une tension maîtrisée\, où le geste semble suspendu\, à la limite de l’effacement. La couleur n’y affirme pas\, elle suggère. Le regard s’y attarde\, lentement\, découvrant une écriture picturale discrète mais persistante. \nUne exposition qui invite à ralentir\, et à éprouver la peinture autrement.
URL:https://essentiel.media/event/dominique-cahier-a-valence/
LOCATION:La Comptoir Concept Store\, 2 rue de la justice\, Valence\, 82400\, France
END:VEVENT
BEGIN:VEVENT
DTSTART;TZID=UTC:20260507T180000
DTEND;TZID=UTC:20260725T190000
DTSTAMP:20260420T044235
CREATED:20260414T174439Z
LAST-MODIFIED:20260414T174439Z
UID:12070-1778176800-1785006000@essentiel.media
SUMMARY:Exposition Ugo Bienvenu\, Futur Antérieur
DESCRIPTION:Ugo Bienvenu a développé ici des associations inédites chez lui\, faisant cohabiter le folklore et une touche discrète de science-fiction\, la pensée magique\, ce « reliquat de la mentalité primitive » pour Lévy- Bruhl\, et la technique. Les enfants y sont partout chez eux\, lovés dans une harmonie organique déjà célébrée dans Arco\, qu’elle soit végétale\, minérale ou aqueuse. Cherchent- ils à échapper aux regards inquisiteurs des adultes\, comme le font les tout jeunes héros de Wes Anderson dans Moonrise Kingdom ? Ces images racontent chacune une histoire sans parole. Elles hésitent entre le déchiffrable et le cryptique\, entre la netteté et le flou\, sans jamais lever complètement le voile sur le mystère qui les entoure. Car Ugo Bienvenu est le seul\, peut-être\, à avoir la clé de cette parade sauvage.
URL:https://essentiel.media/event/exposition-ugo-bienvenu-futur-anterieur/
LOCATION:Galerie Martel Paris\, 17 rue Martel\, Paris\, 75010\, France
END:VEVENT
BEGIN:VEVENT
DTSTART;TZID=UTC:20260613T090000
DTEND;TZID=UTC:20260801T190000
DTSTAMP:20260420T044235
CREATED:20260417T082108Z
LAST-MODIFIED:20260417T082255Z
UID:13612-1781341200-1785610800@essentiel.media
SUMMARY:Archetypes – Chuck Sperry
DESCRIPTION:Du 13 juin au 1er août 2026\, la galerie Art Génération accueille Archetypes\, une exposition majeure consacrée à l’artiste américain Chuck Sperry. À travers ses sérigraphies emblématiques mêlant figures féminines et mythologie grecque\, l’exposition propose une lecture contemporaine des archétypes\, entre esthétique psychédélique\, engagement et culture visuelle.
URL:https://essentiel.media/event/archetypes-chuck-sperry/
LOCATION:Galerie Art Génération\, 67 rue de la Verrerie\, Paris\, 75004\, France
END:VEVENT
END:VCALENDAR