BEGIN:VCALENDAR
VERSION:2.0
PRODID:-//Média Art Essentiel - ECPv6.15.20//NONSGML v1.0//EN
CALSCALE:GREGORIAN
METHOD:PUBLISH
X-WR-CALNAME:Média Art Essentiel
X-ORIGINAL-URL:https://essentiel.media
X-WR-CALDESC:Évènements pour Média Art Essentiel
REFRESH-INTERVAL;VALUE=DURATION:PT1H
X-Robots-Tag:noindex
X-PUBLISHED-TTL:PT1H
BEGIN:VTIMEZONE
TZID:UTC
BEGIN:STANDARD
TZOFFSETFROM:+0000
TZOFFSETTO:+0000
TZNAME:UTC
DTSTART:20250101T000000
END:STANDARD
END:VTIMEZONE
BEGIN:VEVENT
DTSTART;TZID=UTC:20260220T080000
DTEND;TZID=UTC:20260621T170000
DTSTAMP:20260420T045714
CREATED:20260313T161021Z
LAST-MODIFIED:20260406T090626Z
UID:9757-1771574400-1782061200@essentiel.media
SUMMARY:Carole Benzaken - Jam Session
DESCRIPTION:L’exposition Jam Session de Carole Benzaken s’inspire directement de l’esprit du jazz et de l’improvisation. À l’image d’une jam session musicale où les musiciens développent librement des variations autour d’un même thème\, l’artiste propose ici un dialogue entre des œuvres issues de différentes périodes de sa carrière. Peintures\, dessins et vidéos se répondent à travers la couleur\, les formats et les rythmes visuels. Réunissant environ 135 œuvres et articulée autour de trois grandes peintures initiées à Los Angeles en 2002 puis achevées pour cette exposition à Cannes\, la scénographie offre une relecture de plus de vingt ans de création. Depuis plus de trois décennies\, Carole Benzaken explore dans sa peinture l’apparition et la disparition des images\, nourrie par la culture visuelle contemporaine\, le cinéma et l’histoire de l’art.
URL:https://essentiel.media/event/carole-benzaken-jam-session/
LOCATION:La Malmaison\, 47 Boulevard de La Croisette\, Cannes\, 06400\, France
ORGANIZER;CN="Centre d'art contemporain La Malmaison":MAILTO:centredartlamalmaison@ville-cannes.fr
END:VEVENT
END:VCALENDAR